BEGIN:VCALENDAR
VERSION:2.0
PRODID:-//wp-events-plugin.com//5.99912//EN
TZID:Europe/Berlin
X-WR-TIMEZONE:Europe/Berlin
BEGIN:VEVENT
UID:0-131@sontheimbrenz.albverein.eu
DTSTART;TZID=Europe/Berlin:20260514T090000
DTEND;TZID=Europe/Berlin:20260514T090000
DTSTAMP:20251208T135336Z
URL:https://sontheimbrenz.albverein.eu/events/3-etappe-albschaeferweg/
SUMMARY:Tag des Wanderns auf dem Albschäferweg
DESCRIPTION:Diese Ganztagestour zum "Tag des Wanderns" als weiterer Etappe 
 auf dem Albschäferweg wird wieder von unserem Gauobmann Peter Grömme org
 anisiert.\n\nAlle weiteren Details werden dann zu gegebener Zeit bekaqnnt 
 gemacht.\n\nAuch Nicht-Mitglieder sind zu diesen Wanderungen recht herzlic
 h eingeladen!\n\n&nbsp\;
END:VEVENT
BEGIN:VTIMEZONE
TZID:Europe/Berlin
X-LIC-LOCATION:Europe/Berlin
BEGIN:DAYLIGHT
DTSTART:20260329T030000
TZOFFSETFROM:+0100
TZOFFSETTO:+0200
TZNAME:CEST
END:DAYLIGHT
END:VTIMEZONE
END:VCALENDAR