BEGIN:VCALENDAR
VERSION:2.0
PRODID:-//wp-events-plugin.com//5.99912//EN
TZID:Europe/Berlin
X-WR-TIMEZONE:Europe/Berlin
BEGIN:VEVENT
UID:0-151@sontheimbrenz.albverein.eu
DTSTART;TZID=Europe/Berlin:20261216T140000
DTEND;TZID=Europe/Berlin:20261216T140000
DTSTAMP:20260112T015941Z
URL:https://sontheimbrenz.albverein.eu/events/adventsfeier/
SUMMARY:Adventsfeier
DESCRIPTION:Am Mittwoch\, den 16.12.2025 wollen wir bei Kaffee und Kuchen u
 nd schöner Musik unsere Weihnachtsfeier im Restaurant Gaertle halten.\nSp
 äter gibt es noch ein Vesper\, und auch der Nikolaus wird uns besuchen.\n
 \nEine Anmeldung wäre für uns sehr hilfreich. Bitte melden Sie sich bei 
 Sabine Mack Tel.Nr. 07325/3803 an.\n\nWir freuen uns über viele Gäste un
 d auch Nichtmitglieder sind herzlich willkommen.
LOCATION:Gaertle in Sontheim\, Gartenstraße 35\, Sontheim\, 89567\, Deutsc
 hland
GEO:48.54969;10.287399999999934
X-APPLE-STRUCTURED-LOCATION;VALUE=URI;X-ADDRESS=Gartenstraße 35\, Sontheim
 \, 89567\, Deutschland;X-APPLE-RADIUS=100;X-TITLE=Gaertle in Sontheim:geo:
 48.54969,10.287399999999934
END:VEVENT
BEGIN:VTIMEZONE
TZID:Europe/Berlin
X-LIC-LOCATION:Europe/Berlin
BEGIN:STANDARD
DTSTART:20261025T020000
TZOFFSETFROM:+0200
TZOFFSETTO:+0100
TZNAME:CET
END:STANDARD
END:VTIMEZONE
END:VCALENDAR