BEGIN:VCALENDAR
VERSION:2.0
PRODID:-//wp-events-plugin.com//5.99912//EN
TZID:Europe/Berlin
X-WR-TIMEZONE:Europe/Berlin
BEGIN:VEVENT
UID:0-140@sontheimbrenz.albverein.eu
DTSTART;TZID=Europe/Berlin;VALUE=DATE:20260816
DTEND;TZID=Europe/Berlin;VALUE=DATE:20260817
DTSTAMP:20251211T015349Z
URL:https://sontheimbrenz.albverein.eu/events/bahnfahrt/
SUMMARY:Bahnfahrt
DESCRIPTION:Auch in diesem Jahr hat unser Fotowart Jürgen Benz wieder eine
  Bahnfahrt im Petto - es geht nach Überlingen.\n\nTreffpunkt\, Rückankun
 ft sowie alle weiteren Informationen erhalten Sie rechtzeitig vorher - auc
 h an dieser Stelle.\n\nHerzlich willkommen sind alle Teilnehmer - auch Nic
 htmitglieder!
LOCATION:Bahnhof Sontheim\, Bahnhofstraße 15\, Sontheim\, Baden-Württembe
 rg\, 89567\, Deutschland
GEO:48.5592157;10.285064000000034
X-APPLE-STRUCTURED-LOCATION;VALUE=URI;X-ADDRESS=Bahnhofstraße 15\, Sonthei
 m\, Baden-Württemberg\, 89567\, Deutschland;X-APPLE-RADIUS=100;X-TITLE=Ba
 hnhof Sontheim:geo:48.5592157,10.285064000000034
END:VEVENT
BEGIN:VTIMEZONE
TZID:Europe/Berlin
X-LIC-LOCATION:Europe/Berlin
BEGIN:DAYLIGHT
DTSTART:20260329T030000
TZOFFSETFROM:+0100
TZOFFSETTO:+0200
TZNAME:CEST
END:DAYLIGHT
END:VTIMEZONE
END:VCALENDAR