BEGIN:VCALENDAR
VERSION:2.0
PRODID:-//wp-events-plugin.com//5.99912//EN
TZID:Europe/Berlin
X-WR-TIMEZONE:Europe/Berlin
BEGIN:VEVENT
UID:0-408@sontheimbrenz.albverein.eu
DTSTART;TZID=Europe/Berlin:20260505T160000
DTEND;TZID=Europe/Berlin:20260505T180000
DTSTAMP:20251203T142114Z
URL:https://sontheimbrenz.albverein.eu/events/basteln-zu-mutter-und-vatert
 ag/
SUMMARY:Basteln zu Mutter- und Vatertag
DESCRIPTION:Wir wollen mit den Jugendlichen kleine Aufmerksamkeiten zu Mutt
 er- und Vatertag basteln\, die sie dann an ihre Eltern verschenken können
 .\n\nWas dazu mitzubringen ist und alle weiteren Informationen kommen dann
  noch zu gegebener Zeit.
LOCATION:Grundschule Brenz\, Turnstraße 33\, Sontheim\, Baden-Württemberg
 \, 89567\, Deutschland
GEO:48.56610999999999;10.291079999999965
X-APPLE-STRUCTURED-LOCATION;VALUE=URI;X-ADDRESS=Turnstraße 33\, Sontheim\,
  Baden-Württemberg\, 89567\, Deutschland;X-APPLE-RADIUS=100;X-TITLE=Grund
 schule Brenz:geo:48.56610999999999,10.291079999999965
END:VEVENT
BEGIN:VTIMEZONE
TZID:Europe/Berlin
X-LIC-LOCATION:Europe/Berlin
BEGIN:DAYLIGHT
DTSTART:20260329T030000
TZOFFSETFROM:+0100
TZOFFSETTO:+0200
TZNAME:CEST
END:DAYLIGHT
END:VTIMEZONE
END:VCALENDAR