BEGIN:VCALENDAR
VERSION:2.0
PRODID:-//wp-events-plugin.com//5.99912//EN
TZID:Europe/Berlin
X-WR-TIMEZONE:Europe/Berlin
BEGIN:VEVENT
UID:0-136@sontheimbrenz.albverein.eu
DTSTART;TZID=Europe/Berlin:20260906T080000
DTEND;TZID=Europe/Berlin:20260906T080000
DTSTAMP:20251211T020810Z
URL:https://sontheimbrenz.albverein.eu/events/bergtour/
SUMMARY:Bergtour 2026
DESCRIPTION:Auch in diesem Jahr gibt es wieder eine Bergtour unserer Ortsgr
 uppe.\n\nWohin es gehen wird\, erfahren Sie rechtzeitig vorher. Bis dahin 
 haben Sie Zeit\, sich fit für diese Tour zu machen ... und viele unserer 
 zuvor angebotenen Touren mitzumachen.\n\nEine Anmeldung beim Wanderführer
  Willi Häfele (Telefon 6685) ist bis zum 4. September erforderlich. Nähe
 re Auskünfte erteilt dieser gerne.\nTreffpunkt zur gemeinsamen PKW-Fahrt 
 ist um 8 Uhr an der Sontheimer Apotheke.\n\nSelbstverständlich sind auch 
 Nichtmitglieder zu dieser Bergwanderung herzlich eingeladen!
LOCATION:Rathausplatz\, Brenzer Straße 25\, Sontheim\, Baden-Württemberg\
 , 89567\, Deutschland
GEO:48.55822999999999;10.288850000000025
X-APPLE-STRUCTURED-LOCATION;VALUE=URI;X-ADDRESS=Brenzer Straße 25\, Sonthe
 im\, Baden-Württemberg\, 89567\, Deutschland;X-APPLE-RADIUS=100;X-TITLE=R
 athausplatz:geo:48.55822999999999,10.288850000000025
END:VEVENT
BEGIN:VTIMEZONE
TZID:Europe/Berlin
X-LIC-LOCATION:Europe/Berlin
BEGIN:DAYLIGHT
DTSTART:20260329T030000
TZOFFSETFROM:+0100
TZOFFSETTO:+0200
TZNAME:CEST
END:DAYLIGHT
END:VTIMEZONE
END:VCALENDAR