BEGIN:VCALENDAR
VERSION:2.0
PRODID:-//wp-events-plugin.com//5.99912//EN
TZID:Europe/Berlin
X-WR-TIMEZONE:Europe/Berlin
BEGIN:VEVENT
UID:0-226@sontheimbrenz.albverein.eu
DTSTART;TZID=Europe/Berlin:20260923T090000
DTEND;TZID=Europe/Berlin:20260923T090000
DTSTAMP:20251211T022953Z
URL:https://sontheimbrenz.albverein.eu/events/besenfahrt-2/
SUMMARY:Besenfahrt 2026
DESCRIPTION:Die schon traditionelle Besenfahrt der Senioren findet auch 202
 6 wieder statt: am MIttwoch\, den 23.09.2026 geht's los! Das Ziel wird noc
 h nicht genannt ... zu gegebener Zeit dann.\n\nWie immer sind alle Seniore
 n - Mitglieder oder Nicht-Mitglieder - herzlich willkommen!\n\nAbfahrt um 
 9.00 Uhr in Bächingen\, dann Pension Brenz\, Volksbank.\n\nAnmeldungen bi
 s spätestens 14. September bei Sabine Mack unter Tel. 07325/3803.\nDie Fa
 hrkosten betragen 30\,- €.
END:VEVENT
BEGIN:VTIMEZONE
TZID:Europe/Berlin
X-LIC-LOCATION:Europe/Berlin
BEGIN:DAYLIGHT
DTSTART:20260329T030000
TZOFFSETFROM:+0100
TZOFFSETTO:+0200
TZNAME:CEST
END:DAYLIGHT
END:VTIMEZONE
END:VCALENDAR