BEGIN:VCALENDAR
VERSION:2.0
PRODID:-//wp-events-plugin.com//5.99912//EN
TZID:Europe/Berlin
X-WR-TIMEZONE:Europe/Berlin
BEGIN:VEVENT
UID:0-434@sontheimbrenz.albverein.eu
DTSTART;TZID=Europe/Berlin:20261028T090000
DTEND;TZID=Europe/Berlin:20261028T090000
DTSTAMP:20260112T014753Z
URL:https://sontheimbrenz.albverein.eu/events/besuch-des-donauwoerther-pup
 penmuseums/
SUMMARY:Besuch des Donauwörther Puppenmuseums
DESCRIPTION:Die Senioren schauen sich das Käthe-Kruse-Museum (Puppenmuseum
 ) in Donauwörth an. Nehmen Sie Anteil am Nachlass der Puppenmacherin Kät
 he Kruse und lernen Sie die Erstellung einer Puppe kennen. Lassen Sie sich
  überraschen ... und notieren sich den Termin!\n\nAlle weiteren Informati
 onen kommen dann zu gegebener Zeit!\n\nUnd natürlich freut sich das Vorbe
 reitungsteam über alle Mitfahrer!
LOCATION:Puppenmuseum Donauwörth\, Pflegstraße 21a\, Donauwörth\, Bayern
 \, 86609\, Deutschland
GEO:48.72133;10.777958
X-APPLE-STRUCTURED-LOCATION;VALUE=URI;X-ADDRESS=Pflegstraße 21a\, Donauwö
 rth\, Bayern\, 86609\, Deutschland;X-APPLE-RADIUS=100;X-TITLE=Puppenmuseum
  Donauwörth:geo:48.72133,10.777958
END:VEVENT
BEGIN:VTIMEZONE
TZID:Europe/Berlin
X-LIC-LOCATION:Europe/Berlin
BEGIN:STANDARD
DTSTART:20261025T020000
TZOFFSETFROM:+0200
TZOFFSETTO:+0100
TZNAME:CET
END:STANDARD
END:VTIMEZONE
END:VCALENDAR