BEGIN:VCALENDAR
VERSION:2.0
PRODID:-//wp-events-plugin.com//5.99912//EN
TZID:Europe/Berlin
X-WR-TIMEZONE:Europe/Berlin
BEGIN:VEVENT
UID:0-432@sontheimbrenz.albverein.eu
DTSTART;TZID=Europe/Berlin;VALUE=DATE:20260927
DTEND;TZID=Europe/Berlin;VALUE=DATE:20260928
DTSTAMP:20251211T024012Z
URL:https://sontheimbrenz.albverein.eu/events/bockrundweg-harburg/
SUMMARY:Bockrundweg - Harburg
DESCRIPTION:Zu dieser schönen und abwechsungreichen Ganztagestour (der Boc
 krundweg bei Harburg) lädt unsere Wanderführerin Sarah Raffeck ein.\n\nD
 ie näheren Details und alle weieren Informationen kommen dann rechtzeitig
  vorher.\n\nNicht-Mitglieder dürfen gerne auch - genau wie allle Mitglied
 er - zahlreich teilnehmen!
END:VEVENT
BEGIN:VTIMEZONE
TZID:Europe/Berlin
X-LIC-LOCATION:Europe/Berlin
BEGIN:DAYLIGHT
DTSTART:20260329T030000
TZOFFSETFROM:+0100
TZOFFSETTO:+0200
TZNAME:CEST
END:DAYLIGHT
END:VTIMEZONE
END:VCALENDAR