BEGIN:VCALENDAR
VERSION:2.0
PRODID:-//wp-events-plugin.com//5.99912//EN
TZID:Europe/Berlin
X-WR-TIMEZONE:Europe/Berlin
BEGIN:VEVENT
UID:0-228@sontheimbrenz.albverein.eu
DTSTART;TZID=Europe/Berlin:20260627T163000
DTEND;TZID=Europe/Berlin:20260628T150000
DTSTAMP:20251208T142423Z
URL:https://sontheimbrenz.albverein.eu/events/danzfest-bittelschiess/
SUMMARY:Danz- und Musikfest Bittelschieß
DESCRIPTION:Das Danzfest der Volkstanzgruppe Bittelschieß ist für unsere 
 Jungedvolkstanzgruppe\, aber auch für alle anderen Tänzer immer wieder A
 nziehungspunkt. So auch in diesem Jahr.\n\nHerzliche Einladung an alle\, d
 ie teilnehmen möchten. Bitte erfragen Sie alles Weitere über unsere Fach
 warte bzw. über den Vorstand.\n\nAlle weiteren Informationen auch auf der
  o.g. Seite zu Danz- und Musikfest.
LOCATION:Heuboden Familie Griesser\, Jungviehweide 6\, Bittelschieß\, Bade
 n-Württemberg\, 72505\, Deutschland
GEO:47.99335;9.2231901
X-APPLE-STRUCTURED-LOCATION;VALUE=URI;X-ADDRESS=Jungviehweide 6\, Bittelsch
 ieß\, Baden-Württemberg\, 72505\, Deutschland;X-APPLE-RADIUS=100;X-TITLE
 =Heuboden Familie Griesser:geo:47.99335,9.2231901
END:VEVENT
BEGIN:VTIMEZONE
TZID:Europe/Berlin
X-LIC-LOCATION:Europe/Berlin
BEGIN:DAYLIGHT
DTSTART:20260329T030000
TZOFFSETFROM:+0100
TZOFFSETTO:+0200
TZNAME:CEST
END:DAYLIGHT
END:VTIMEZONE
END:VCALENDAR