BEGIN:VCALENDAR
VERSION:2.0
PRODID:-//wp-events-plugin.com//5.99912//EN
TZID:Europe/Berlin
X-WR-TIMEZONE:Europe/Berlin
BEGIN:VEVENT
UID:0-428@sontheimbrenz.albverein.eu
DTSTART;TZID=Europe/Berlin;VALUE=DATE:20260712
DTEND;TZID=Europe/Berlin;VALUE=DATE:20260713
DTSTAMP:20251211T013138Z
URL:https://sontheimbrenz.albverein.eu/events/eistobel-isny/
SUMMARY:Eistobel - Isny
DESCRIPTION:Zu dieser Ganztageswanderung lädt unsere Wanderführerin Linda
  Gäßler ganz herzlich ein. Diese sehr interessant werdende Wanderung ist
  sehr gut auch für Familien und Kinder geeignet!\nLassen Sie sich mit hin
 einnehmen in die wunderbare Natur rund um den Argen und die unterschiedlic
 hen Wasserfälle. Informieren Sie sich gerne schon vorab hier auf der Home
 page.\n\nWir freuen uns auf viele Wanderfreunde - Mitglieder oder Nicht-Mi
 tglieder!
LOCATION:Eistobel-Infopavillon\, Hauptstraße 85\, Grünenbach\, Baden-Wür
 ttemberg\, 88167\, Deutschland
GEO:48.661604;9.350134
X-APPLE-STRUCTURED-LOCATION;VALUE=URI;X-ADDRESS=Hauptstraße 85\, Grünenba
 ch\, Baden-Württemberg\, 88167\, Deutschland;X-APPLE-RADIUS=100;X-TITLE=E
 istobel-Infopavillon:geo:48.661604,9.350134
END:VEVENT
BEGIN:VTIMEZONE
TZID:Europe/Berlin
X-LIC-LOCATION:Europe/Berlin
BEGIN:DAYLIGHT
DTSTART:20260329T030000
TZOFFSETFROM:+0100
TZOFFSETTO:+0200
TZNAME:CEST
END:DAYLIGHT
END:VTIMEZONE
END:VCALENDAR