BEGIN:VCALENDAR
VERSION:2.0
PRODID:-//wp-events-plugin.com//5.99912//EN
TZID:Europe/Berlin
X-WR-TIMEZONE:Europe/Berlin
BEGIN:VEVENT
UID:0-246@sontheimbrenz.albverein.eu
DTSTART;TZID=Europe/Berlin:20261113T180000
DTEND;TZID=Europe/Berlin:20261113T180000
DTSTAMP:20251203T133311Z
URL:https://sontheimbrenz.albverein.eu/events/fackelwanderung/
SUMMARY:Fackelwanderung
DESCRIPTION:Liebe Familien von Sontheim und Umgebung\,\nliebe Sontheimer\,\
 nwir möchten euch ganz herzlich zu unserer Fackelwanderung mit anschließ
 endem gemütlichem Beisammensein mit vorweihnachtlicher Atmosphäre einlad
 en. Wir treffen uns am 13.11.2026 um 18:00 Uhr am Mooseum in Bächingen.\n
 Von dort starten wir zu einer kleinen Wanderung mit Fackeln. Am Ende lasse
 n wir es gemütlich bei Punsch\, Glühwein und Leberkäse ausklingen. Wir 
 freuen uns auf einen schönen Abend mit vielen fröhlichen Familien!\n\nWe
 nn Ihr dabei seid\, meldet euch bitte bis 6.11.2026 unter\nFamilie@SAV-Son
 theim.de unter Angabe der Personenzahl an.\n\nDie Kosten für Fackel und V
 erpflegung:\nMitglieder SAV 5 Euro / Person\nNichtmitglieder 7 Euro / Pers
 on
LOCATION:Mooseum\, Schlossstraße 7\, Bächingen\, Bayern\, 89431\, Deutsch
 land
GEO:48.54793;10.313959999999952
X-APPLE-STRUCTURED-LOCATION;VALUE=URI;X-ADDRESS=Schlossstraße 7\, Bäching
 en\, Bayern\, 89431\, Deutschland;X-APPLE-RADIUS=100;X-TITLE=Mooseum:geo:4
 8.54793,10.313959999999952
END:VEVENT
BEGIN:VTIMEZONE
TZID:Europe/Berlin
X-LIC-LOCATION:Europe/Berlin
BEGIN:STANDARD
DTSTART:20261025T020000
TZOFFSETFROM:+0200
TZOFFSETTO:+0100
TZNAME:CET
END:STANDARD
END:VTIMEZONE
END:VCALENDAR