BEGIN:VCALENDAR
VERSION:2.0
PRODID:-//wp-events-plugin.com//5.99912//EN
TZID:Europe/Berlin
X-WR-TIMEZONE:Europe/Berlin
BEGIN:VEVENT
UID:0-153@sontheimbrenz.albverein.eu
DTSTART;TZID=Europe/Berlin;VALUE=DATE:20261205
DTEND;TZID=Europe/Berlin;VALUE=DATE:20261206
DTSTAMP:20260112T020343Z
URL:https://sontheimbrenz.albverein.eu/events/fahrt-zum-weihnachtsmarkt-in
 -sigmaringen/
SUMMARY:Fahrt zum Weihnachtsmarkt
DESCRIPTION:Auch in diesem Jahr soll es wieder eine Fahrt zu einem Weihnach
 tsmarkt geben. Wie im vergangenen Jahr\, wird es sicher auch in diesem Jah
 r wieder eine tolle Fahrt werden.\nGerne können neben den Mitgliedern des
  Vereins auch alle Interessierten teilnehmen.\n\nAlle weiteren Information
 en kommen rechtzeitig vorher an dieser Stelle.
END:VEVENT
BEGIN:VTIMEZONE
TZID:Europe/Berlin
X-LIC-LOCATION:Europe/Berlin
BEGIN:STANDARD
DTSTART:20261025T020000
TZOFFSETFROM:+0200
TZOFFSETTO:+0100
TZNAME:CET
END:STANDARD
END:VTIMEZONE
END:VCALENDAR