BEGIN:VCALENDAR
VERSION:2.0
PRODID:-//wp-events-plugin.com//5.99912//EN
TZID:Europe/Berlin
X-WR-TIMEZONE:Europe/Berlin
BEGIN:VEVENT
UID:0-426@sontheimbrenz.albverein.eu
DTSTART;TZID=Europe/Berlin:20260927T110000
DTEND;TZID=Europe/Berlin:20260927T110000
DTSTAMP:20251211T024219Z
URL:https://sontheimbrenz.albverein.eu/events/festumzug-beim-canstatter-vo
 lksfest/
SUMMARY:Festumzug beim Canstatter Volksfest
DESCRIPTION:Unsere Schäfertanzgruppe nimmt am 179. Festumzug beim Canstatt
 er Volksfest teil. Gerne dürfen Sie die Gruppe begleiten und den Tänzern
  vom Rande aus zujubeln ... und natürlich auch den vielen anderen Gruppen
 \, die auch teilnehmen. Freuen Sie sich auf einen unvergesslichen Tag vor 
 den Toren unserer Landeshauptstadt.
LOCATION:Canstatter Wasen\, Mercedesstraße\, Bad Canstatt\, Baden-Württem
 berg\, 70372\, Deutschland
GEO:48.793201;9.226684
X-APPLE-STRUCTURED-LOCATION;VALUE=URI;X-ADDRESS=Mercedesstraße\, Bad Canst
 att\, Baden-Württemberg\, 70372\, Deutschland;X-APPLE-RADIUS=100;X-TITLE=
 Canstatter Wasen:geo:48.793201,9.226684
END:VEVENT
BEGIN:VTIMEZONE
TZID:Europe/Berlin
X-LIC-LOCATION:Europe/Berlin
BEGIN:DAYLIGHT
DTSTART:20260329T030000
TZOFFSETFROM:+0100
TZOFFSETTO:+0200
TZNAME:CEST
END:DAYLIGHT
END:VTIMEZONE
END:VCALENDAR