BEGIN:VCALENDAR
VERSION:2.0
PRODID:-//wp-events-plugin.com//5.99912//EN
TZID:Europe/Berlin
X-WR-TIMEZONE:Europe/Berlin
BEGIN:VEVENT
UID:0-148@sontheimbrenz.albverein.eu
DTSTART;TZID=Europe/Berlin:20261004T100000
DTEND;TZID=Europe/Berlin:20261004T100000
DTSTAMP:20260112T021658Z
URL:https://sontheimbrenz.albverein.eu/events/gauversammlung/
SUMMARY:Gauversammlung 2026
DESCRIPTION:Gauversammlung 2026\nDas Programm der diesjährigen Gauversamml
 ung wird noch bekannt gegeben. Wie üblich\, beginnt die Versammlung kurz 
 nach Mittag\; es wird zuvor eine Wanderung und ein gemeinsames Mittagessen
  angeboten.\n\nDie Veranstaltung wird musikalisch umrahmt!\nEs sind alle M
 itglieder und Freunde des Vereins herzlich eingeladen!\n\n&nbsp\;
LOCATION:Wanderheim Pfannentalhaus\, Wanderheim Pfannentalhaus\, Lauingen\,
  Bayern\, 89437\, Deutschland
GEO:48.5921307;10.357720299999983
X-APPLE-STRUCTURED-LOCATION;VALUE=URI;X-ADDRESS=Wanderheim Pfannentalhaus\,
  Lauingen\, Bayern\, 89437\, Deutschland;X-APPLE-RADIUS=100;X-TITLE=Wander
 heim Pfannentalhaus:geo:48.5921307,10.357720299999983
END:VEVENT
BEGIN:VTIMEZONE
TZID:Europe/Berlin
X-LIC-LOCATION:Europe/Berlin
BEGIN:DAYLIGHT
DTSTART:20260329T030000
TZOFFSETFROM:+0100
TZOFFSETTO:+0200
TZNAME:CEST
END:DAYLIGHT
END:VTIMEZONE
END:VCALENDAR