BEGIN:VCALENDAR
VERSION:2.0
PRODID:-//wp-events-plugin.com//5.99912//EN
TZID:Europe/Berlin
X-WR-TIMEZONE:Europe/Berlin
BEGIN:VEVENT
UID:0-156@sontheimbrenz.albverein.eu
DTSTART;TZID=Europe/Berlin:20260502T180000
DTEND;TZID=Europe/Berlin:20260502T180000
DTSTAMP:20260410T172510Z
URL:https://sontheimbrenz.albverein.eu/events/hauptversammlung-der-ortsgru
 ppe-2/
SUMMARY:Hauptversammlung der Ortsgruppe
DESCRIPTION:Einladung zur Hauptversammlung\nAm Samstag\, den 2. Mai 2026 fi
 ndet ab 18:00 Uhr im Vereinsraum in der Brenzer Schule unsere Hauptversamm
 lung statt. Die Tagesordnung umfasst folgende Punkte:\n\n 	Begrüßung und
  Bericht des Vorstandes\n 	Kassenbericht\n 	Bericht der Kassenprüfer\n 	B
 erichte der Fachwarte\n 	Entlastungen\n 	Wahlen\n 	Sonstiges\n\n&nbsp\;\n\
 nZu unserer Hauptversammlung laden wir alle Mitglieder\, Freunde und Inter
 essierten herzlich ein. Wünsche und Anträge sind bitte bis 24.04.2026 sc
 hriftlich unter Vorstand at sav-sontheim.de einzureichen.
LOCATION:Grundschule Brenz\, Turnstraße 33\, Sontheim\, Baden-Württemberg
 \, 89567\, Deutschland
GEO:48.56610999999999;10.291079999999965
X-APPLE-STRUCTURED-LOCATION;VALUE=URI;X-ADDRESS=Turnstraße 33\, Sontheim\,
  Baden-Württemberg\, 89567\, Deutschland;X-APPLE-RADIUS=100;X-TITLE=Grund
 schule Brenz:geo:48.56610999999999,10.291079999999965
END:VEVENT
BEGIN:VTIMEZONE
TZID:Europe/Berlin
X-LIC-LOCATION:Europe/Berlin
BEGIN:DAYLIGHT
DTSTART:20260329T030000
TZOFFSETFROM:+0100
TZOFFSETTO:+0200
TZNAME:CEST
END:DAYLIGHT
END:VTIMEZONE
END:VCALENDAR