BEGIN:VCALENDAR
VERSION:2.0
PRODID:-//wp-events-plugin.com//5.99912//EN
TZID:Europe/Berlin
X-WR-TIMEZONE:Europe/Berlin
BEGIN:VEVENT
UID:0-252@sontheimbrenz.albverein.eu
DTSTART;TZID=Europe/Berlin:20261125T140000
DTEND;TZID=Europe/Berlin:20261125T140000
DTSTAMP:20260112T015629Z
URL:https://sontheimbrenz.albverein.eu/events/jahresrueckblick/
SUMMARY:Jahresrückblick
DESCRIPTION:Die Senioren gestalten ihren traditionellen Jahresrückblick mi
 t Fotos von Jürgen Benz im mooseum in Bächingen.\n\nZu diesem gesellig\,
  gemütlichen Kaffeenachmittag sind neben den Mitgliedern sehr gerne auch 
 alle Interessierten eingeladen. Herzlich willkommen!
LOCATION:Mooseum\, Schlossstraße 7\, Bächingen\, Bayern\, 89431\, Deutsch
 land
GEO:48.54793;10.313959999999952
X-APPLE-STRUCTURED-LOCATION;VALUE=URI;X-ADDRESS=Schlossstraße 7\, Bäching
 en\, Bayern\, 89431\, Deutschland;X-APPLE-RADIUS=100;X-TITLE=Mooseum:geo:4
 8.54793,10.313959999999952
END:VEVENT
BEGIN:VTIMEZONE
TZID:Europe/Berlin
X-LIC-LOCATION:Europe/Berlin
BEGIN:STANDARD
DTSTART:20261025T020000
TZOFFSETFROM:+0200
TZOFFSETTO:+0100
TZNAME:CET
END:STANDARD
END:VTIMEZONE
END:VCALENDAR