BEGIN:VCALENDAR
VERSION:2.0
PRODID:-//wp-events-plugin.com//5.99912//EN
TZID:Europe/Berlin
X-WR-TIMEZONE:Europe/Berlin
BEGIN:VEVENT
UID:0-419@sontheimbrenz.albverein.eu
DTSTART;TZID=Europe/Berlin;VALUE=DATE:20260517
DTEND;TZID=Europe/Berlin;VALUE=DATE:20260518
DTSTAMP:20251211T010558Z
URL:https://sontheimbrenz.albverein.eu/events/jubilaeum-der-feuerwehr/
SUMMARY:Jubiläum der Feuerwehr: 150 Jahre
DESCRIPTION:In diesem Jahr feiert die Freiwillige Feuerwehr Sontheim vom 13
 . - 17. Mai ihren 150. Geburtstag. Zu deseim Jubiläum sind am Sonntag all
 e Vereine zu einem großen Festumzug mit feierlichem Abschluss geladen. Au
 ch wir beteiligen uns am Festumzug und grüßen damit unsere Feuerwehr\, d
 ie so wichtig und gut ist für unseren Ort.
LOCATION:Gemeindehalle Sontheim\, Neustraße 28\, Sontheim\, Baden-Württem
 berg\, 89567\, Deutschland
GEO:48.55377;10.286460000000034
X-APPLE-STRUCTURED-LOCATION;VALUE=URI;X-ADDRESS=Neustraße 28\, Sontheim\, 
 Baden-Württemberg\, 89567\, Deutschland;X-APPLE-RADIUS=100;X-TITLE=Gemein
 dehalle Sontheim:geo:48.55377,10.286460000000034
END:VEVENT
BEGIN:VTIMEZONE
TZID:Europe/Berlin
X-LIC-LOCATION:Europe/Berlin
BEGIN:DAYLIGHT
DTSTART:20260329T030000
TZOFFSETFROM:+0100
TZOFFSETTO:+0200
TZNAME:CEST
END:DAYLIGHT
END:VTIMEZONE
END:VCALENDAR