BEGIN:VCALENDAR
VERSION:2.0
PRODID:-//wp-events-plugin.com//5.99912//EN
TZID:Europe/Berlin
X-WR-TIMEZONE:Europe/Berlin
BEGIN:VEVENT
UID:0-236@sontheimbrenz.albverein.eu
DTSTART;TZID=Europe/Berlin:20261107T180000
DTEND;TZID=Europe/Berlin:20261107T180000
DTSTAMP:20251211T003927Z
URL:https://sontheimbrenz.albverein.eu/events/jubilarsfeier/
SUMMARY:Jubilarsfeier 2026
DESCRIPTION:Die Jubilare unseres Vereins werden auch in diesem Jahr wieder 
 geehrt. Wir freuen uns\, dass sie unserem Verien z.T. über ein halbes Jah
 rhundert die Treue gehalten haben. Herzlichen Dank schon jetzt dafür!\n\n
 Es soll aber in gebürendem Rahmen auch noch gefeiert werden - in unserem 
 Vereinsräumlichkeiten in der ehemaligen Brenzer Schule.
LOCATION:Grundschule Brenz\, Turnstraße 33\, Sontheim\, Baden-Württemberg
 \, 89567\, Deutschland
GEO:48.56610999999999;10.291079999999965
X-APPLE-STRUCTURED-LOCATION;VALUE=URI;X-ADDRESS=Turnstraße 33\, Sontheim\,
  Baden-Württemberg\, 89567\, Deutschland;X-APPLE-RADIUS=100;X-TITLE=Grund
 schule Brenz:geo:48.56610999999999,10.291079999999965
END:VEVENT
BEGIN:VTIMEZONE
TZID:Europe/Berlin
X-LIC-LOCATION:Europe/Berlin
BEGIN:STANDARD
DTSTART:20261025T020000
TZOFFSETFROM:+0200
TZOFFSETTO:+0100
TZNAME:CET
END:STANDARD
END:VTIMEZONE
END:VCALENDAR