BEGIN:VCALENDAR
VERSION:2.0
PRODID:-//wp-events-plugin.com//5.99912//EN
TZID:Europe/Berlin
X-WR-TIMEZONE:Europe/Berlin
BEGIN:VEVENT
UID:0-427@sontheimbrenz.albverein.eu
DTSTART;TZID=Europe/Berlin;VALUE=DATE:20261128
DTEND;TZID=Europe/Berlin;VALUE=DATE:20261130
DTSTAMP:20251211T005011Z
URL:https://sontheimbrenz.albverein.eu/events/kathreintanz-wien/
SUMMARY:Kathreintanz Wien
DESCRIPTION:Unsere Volkstanzgruppen planen am diesjährigen Kathreintanz in
  Wien teilzunehmen.\n\nWikipedia sagt über den Kathreintanz:\n"Der Kathre
 intanz bildet am letzten Samstag vor dem 25. November den Abschluss der im
  Volkstum traditionellen Tanzsaison. Gepflegt wird dieses Brauchtum in den
  deutschsprachigen Alpenländern und im fränkischen Raum.\nDie Bezeichnun
 g geht auf die heilige Katharina von Alexandrien zurück\, deren Gedenktag
  der 25. November ist\, eines der letzten Heiligenfeste vor dem Advent. De
 r Advent dient (analog zur Fastenzeit vor Ostern) als Bußzeit und sogenan
 nte geschlossene Zeit zur Vorbereitung auf das Weihnachtsfest. In diesen g
 eschlossenen Zeiten waren früher öffentliche Tanzveranstaltungen verbote
 n. Im Volksmund ist der Merkspruch überliefert: „Kathrein stellt den Ta
 nz ein“. Vom Kathreintag bis einschließlich Erscheinung des Herrn blieb
 en „Bass und Geigen eingesperrt“.\n\nDieses Tanzverbot ist weitgehend 
 Geschichte\; in den deutschsprachigen Ländern gilt es mit Gesetzeskraft n
 ur noch für die sogenannten stillen Tage. Jedoch wird die Tradition tanzf
 reier Zeiten in der Volkstanz-Szene weitergepflegt\; dort findet vielerort
 s als letztes Tanzfest im Jahr im November ein Kathreintanz statt\, oft vo
 m Heimatverein\, dem Trachtenverein oder der Volksmusikgruppe veranstaltet
 . Hierbei werden zumeist traditionelle Volkstänze (wie Walzer\, Dreher\, 
 Polka\, Schottischer\, Boarischer\, Zwiefacher) gespielt und getanzt."\n\n
 Bekannte Orte\, die noch einen Kathreintanz vollziehen\, sind Wien\, Münc
 hen und Meran.
LOCATION:Palais Ferstel\, Freyung 2\, Wien\, 1010\, Österreich
GEO:48.211229;16.365634
X-APPLE-STRUCTURED-LOCATION;VALUE=URI;X-ADDRESS=Freyung 2\, Wien\, 1010\, 
 Österreich;X-APPLE-RADIUS=100;X-TITLE=Palais Ferstel:geo:48.211229,16.365
 634
END:VEVENT
BEGIN:VTIMEZONE
TZID:Europe/Berlin
X-LIC-LOCATION:Europe/Berlin
BEGIN:STANDARD
DTSTART:20261025T020000
TZOFFSETFROM:+0200
TZOFFSETTO:+0100
TZNAME:CET
END:STANDARD
END:VTIMEZONE
END:VCALENDAR