BEGIN:VCALENDAR
VERSION:2.0
PRODID:-//wp-events-plugin.com//5.99912//EN
TZID:Europe/Berlin
X-WR-TIMEZONE:Europe/Berlin
BEGIN:VEVENT
UID:0-430@sontheimbrenz.albverein.eu
DTSTART;TZID=Europe/Berlin:20260731T000000
DTEND;TZID=Europe/Berlin:20260731T000000
DTSTAMP:20251211T014516Z
URL:https://sontheimbrenz.albverein.eu/events/kinderferienprogramm/
SUMMARY:Kinderferienprogramm
DESCRIPTION:Die Familiengruppe geht in die Sommerferien mit einem Angebot f
 ür die Kinder. Wie im vergangenen Jahr wird es sicher auch diesmal richti
 g cool werden!\n\nAlso Kids\, lasst euch überraschen\, merkt euch aber da
 s Datum schon mal vor und schreibt es euch in euren Kalendern auf!\n\nDas 
 Nähere und alle wichtigen Informationen gibt's dann hier rechtzeitig vorh
 er.
END:VEVENT
BEGIN:VTIMEZONE
TZID:Europe/Berlin
X-LIC-LOCATION:Europe/Berlin
BEGIN:DAYLIGHT
DTSTART:20260329T030000
TZOFFSETFROM:+0100
TZOFFSETTO:+0200
TZNAME:CEST
END:DAYLIGHT
END:VTIMEZONE
END:VCALENDAR