BEGIN:VCALENDAR
VERSION:2.0
PRODID:-//wp-events-plugin.com//5.99912//EN
TZID:Europe/Berlin
X-WR-TIMEZONE:Europe/Berlin
BEGIN:VEVENT
UID:0-392@sontheimbrenz.albverein.eu
DTSTART;TZID=Europe/Berlin:20260919T000000
DTEND;TZID=Europe/Berlin:20260919T000000
DTSTAMP:20251203T133050Z
URL:https://sontheimbrenz.albverein.eu/events/kobolde-der-nacht-die-fleder
 maus/
SUMMARY:Kobolde der Nacht / die Fledermaus
DESCRIPTION:Zu dieser Veranstaltung sind Kinder des Vereins und / oder Befr
 eundete ganz herzlich eingeladen. Die Familiengruppe freut sich auf viele 
 neugierige Kinder (und deren erwachsene Begleitungen). Wir werden zum Altm
 ühlsee fahren und dort den Nacht aktiven Tieren begegnen.\n\nAlles Weiter
 e wird zu gegebener Zeit mitgeteilt.
END:VEVENT
BEGIN:VTIMEZONE
TZID:Europe/Berlin
X-LIC-LOCATION:Europe/Berlin
BEGIN:DAYLIGHT
DTSTART:20260329T030000
TZOFFSETFROM:+0100
TZOFFSETTO:+0200
TZNAME:CEST
END:DAYLIGHT
END:VTIMEZONE
END:VCALENDAR