BEGIN:VCALENDAR
VERSION:2.0
PRODID:-//wp-events-plugin.com//5.99912//EN
TZID:Europe/Berlin
X-WR-TIMEZONE:Europe/Berlin
BEGIN:VEVENT
UID:0-364@sontheimbrenz.albverein.eu
DTSTART;TZID=Europe/Berlin:20261104T200000
DTEND;TZID=Europe/Berlin:20261104T200000
DTSTAMP:20251203T080045Z
URL:https://sontheimbrenz.albverein.eu/events/kreativ-zeit-im-november-2/
SUMMARY:Kreativ-Zeit im November
DESCRIPTION:Wir wollen wieder gemeinsam kreativ sein und uns bei gemütlich
 er Runde treffen. Eingeladen sind alle! Wir wollen uns treffen\, um geplan
 te\, begonnene oder liegen gelassene Projekte zu machen. Dabei ist es egal
 \, ob du strickst\, werkelst\, faltest\, ein Puzzle machst\, Nüsse knacks
 t oder Fotos einklebst oder einfach nur Lust auf Gesellschaft und gute Ges
 präche hast.\n\n
LOCATION:Grundschule Brenz\, Turnstraße 33\, Sontheim\, Baden-Württemberg
 \, 89567\, Deutschland
GEO:48.56610999999999;10.291079999999965
X-APPLE-STRUCTURED-LOCATION;VALUE=URI;X-ADDRESS=Turnstraße 33\, Sontheim\,
  Baden-Württemberg\, 89567\, Deutschland;X-APPLE-RADIUS=100;X-TITLE=Grund
 schule Brenz:geo:48.56610999999999,10.291079999999965
END:VEVENT
BEGIN:VTIMEZONE
TZID:Europe/Berlin
X-LIC-LOCATION:Europe/Berlin
BEGIN:STANDARD
DTSTART:20261025T020000
TZOFFSETFROM:+0200
TZOFFSETTO:+0100
TZNAME:CET
END:STANDARD
END:VTIMEZONE
END:VCALENDAR