BEGIN:VCALENDAR
VERSION:2.0
PRODID:-//wp-events-plugin.com//5.99912//EN
TZID:Europe/Berlin
X-WR-TIMEZONE:Europe/Berlin
BEGIN:VEVENT
UID:0-413@sontheimbrenz.albverein.eu
DTSTART;TZID=Europe/Berlin:20261013T160000
DTEND;TZID=Europe/Berlin:20261013T180000
DTSTAMP:20251203T144351Z
URL:https://sontheimbrenz.albverein.eu/events/kuerbis-schnitzen/
SUMMARY:Kürbis schnitzen
DESCRIPTION:Wir wollen mit euch Kürbisse schnitzen\, um sie für Halloween
  vorzubereiten ... Außerdem ist so ein Kürbis ja auch sehr gesund\, wenn
  er gut zu Suppe oder Anderem verarbeitet wird.\nLasst euch also nicht lum
 pen und kommt vorbei!\n\nWas alles nötig ist und alle weiteren Infos komm
 en noch.
LOCATION:Grundschule Brenz\, Turnstraße 33\, Sontheim\, Baden-Württemberg
 \, 89567\, Deutschland
GEO:48.56610999999999;10.291079999999965
X-APPLE-STRUCTURED-LOCATION;VALUE=URI;X-ADDRESS=Turnstraße 33\, Sontheim\,
  Baden-Württemberg\, 89567\, Deutschland;X-APPLE-RADIUS=100;X-TITLE=Grund
 schule Brenz:geo:48.56610999999999,10.291079999999965
END:VEVENT
BEGIN:VTIMEZONE
TZID:Europe/Berlin
X-LIC-LOCATION:Europe/Berlin
BEGIN:DAYLIGHT
DTSTART:20260329T030000
TZOFFSETFROM:+0100
TZOFFSETTO:+0200
TZNAME:CEST
END:DAYLIGHT
END:VTIMEZONE
END:VCALENDAR