BEGIN:VCALENDAR
VERSION:2.0
PRODID:-//wp-events-plugin.com//5.99912//EN
TZID:Europe/Berlin
X-WR-TIMEZONE:Europe/Berlin
BEGIN:VEVENT
UID:0-126@sontheimbrenz.albverein.eu
DTSTART;TZID=Europe/Berlin;VALUE=DATE:20261010
DTEND;TZID=Europe/Berlin;VALUE=DATE:20261011
DTSTAMP:20260112T012702Z
URL:https://sontheimbrenz.albverein.eu/events/landschaftspflegetag/
SUMMARY:Landschaftspflegetag 2025
DESCRIPTION:\n\n\nGanztagesaktion der Naturschutzgruppe am Gerstelbrunnen u
 nd in der Streuobstwiese. Helfer sind herzlich willkommen.\n\nNähere Info
 rmationen folgen.\n\n\n
LOCATION:Streuobstwiese der Ortsgruppe\, Gäßlesbauernholz\, Sontheim\, Ba
 den-Württemberg\, 89567\, Deutschland
GEO:48.5481932;10.268723300000033
X-APPLE-STRUCTURED-LOCATION;VALUE=URI;X-ADDRESS=Gäßlesbauernholz\, Sonthe
 im\, Baden-Württemberg\, 89567\, Deutschland;X-APPLE-RADIUS=100;X-TITLE=S
 treuobstwiese der Ortsgruppe:geo:48.5481932,10.268723300000033
END:VEVENT
BEGIN:VTIMEZONE
TZID:Europe/Berlin
X-LIC-LOCATION:Europe/Berlin
BEGIN:DAYLIGHT
DTSTART:20260329T030000
TZOFFSETFROM:+0100
TZOFFSETTO:+0200
TZNAME:CEST
END:DAYLIGHT
END:VTIMEZONE
END:VCALENDAR