BEGIN:VCALENDAR
VERSION:2.0
PRODID:-//wp-events-plugin.com//5.99912//EN
TZID:Europe/Berlin
X-WR-TIMEZONE:Europe/Berlin
BEGIN:VEVENT
UID:0-424@sontheimbrenz.albverein.eu
DTSTART;TZID=Europe/Berlin:20260426T083000
DTEND;TZID=Europe/Berlin:20260426T083000
DTSTAMP:20260410T173816Z
URL:https://sontheimbrenz.albverein.eu/events/loewenpfad-weitblick-tour/
SUMMARY:Löwenpfad-Weitblick-Tour
DESCRIPTION:Zur Löwenpfad-Weitblick-Tour am Rande des Albtraufs bei Geisli
 ngen lädt unsere Wanderführerin Sarah Raffeck ein (über den Link könne
 n Sie sich gerne schon informieren und einen Vorgeschmack bekommen).\nDer 
 Name der rund 13 km langen Rundtour spricht für sich: Die Wanderer erwart
 en malerische Ausblicke auf den steil empor aufragenden Albtrauf.\nDurch d
 as Längental bei Geislingen a.d.St. führt der Weg nach ca. 300 Hm auf di
 e Kuchalb. Dort wird es in dem urigen Gasthof "Zur Mutter Franzl" Mittagsp
 ause geben. Danach gehts weiter zur Maierhalde mit der tollen Aussicht auf
  den Hohenstaufen.\nDer Rückweg führt auf einem schmalen Naturpfad oberh
 alb des Filstales mit weiteren imposanten Ausblicken entlang.\n\nTreffpunk
 t am Sonntag\, 26.4.2026 um 8.30 Uhr an der Brenztalapotheke in Sontheim z
 ur gemeinsamen Abfahrt. Es werden Fahrgemeinschaften gebildet.\n\nBitte gu
 te Wanderschuhe\, evtl.Stöcke und Getränk mitbringen.\n\nAnmeldung (wege
 n Reservierung des Gasthauses) bis 19.4.2026 bei Wanderführerin Sarah Raf
 feck per WhatsApp: 0157- 87630765\n\nNichtmitglieder sind ebenso herzlich 
 eingeladen!
LOCATION:Brenztalapotheke Sontheim\, Brenzer Straße 27\, Sontheim\, Baden-
 Württemberg\, 89567\, Deutschland
GEO:48.5580021;10.2892053
X-APPLE-STRUCTURED-LOCATION;VALUE=URI;X-ADDRESS=Brenzer Straße 27\, Sonthe
 im\, Baden-Württemberg\, 89567\, Deutschland;X-APPLE-RADIUS=100;X-TITLE=B
 renztalapotheke Sontheim:geo:48.5580021,10.2892053
END:VEVENT
BEGIN:VTIMEZONE
TZID:Europe/Berlin
X-LIC-LOCATION:Europe/Berlin
BEGIN:DAYLIGHT
DTSTART:20260329T030000
TZOFFSETFROM:+0100
TZOFFSETTO:+0200
TZNAME:CEST
END:DAYLIGHT
END:VTIMEZONE
END:VCALENDAR