BEGIN:VCALENDAR
VERSION:2.0
PRODID:-//wp-events-plugin.com//5.99912//EN
TZID:Europe/Berlin
X-WR-TIMEZONE:Europe/Berlin
BEGIN:VEVENT
UID:0-409@sontheimbrenz.albverein.eu
DTSTART;TZID=Europe/Berlin:20260609T160000
DTEND;TZID=Europe/Berlin:20260609T180000
DTSTAMP:20251203T142426Z
URL:https://sontheimbrenz.albverein.eu/events/moor-im-mooseum/
SUMMARY:Moor im mooseum
DESCRIPTION:Wenn ihr Jugendlichen euch darunter so wenig vorstellen könnt 
 wie ich\, der Webmaster\, dann kommt einfach vorbei und schaut's euch an b
 zw. lasst euch mit hineinnehmen ...\n\nUnd wie immer kommen die wichtigen 
 Informationen erst später\, aber sicher zur rechten Zeit.
LOCATION:Mooseum\, Schlossstraße 7\, Bächingen\, Bayern\, 89431\, Deutsch
 land
GEO:48.54793;10.313959999999952
X-APPLE-STRUCTURED-LOCATION;VALUE=URI;X-ADDRESS=Schlossstraße 7\, Bäching
 en\, Bayern\, 89431\, Deutschland;X-APPLE-RADIUS=100;X-TITLE=Mooseum:geo:4
 8.54793,10.313959999999952
END:VEVENT
BEGIN:VTIMEZONE
TZID:Europe/Berlin
X-LIC-LOCATION:Europe/Berlin
BEGIN:DAYLIGHT
DTSTART:20260329T030000
TZOFFSETFROM:+0100
TZOFFSETTO:+0200
TZNAME:CEST
END:DAYLIGHT
END:VTIMEZONE
END:VCALENDAR