BEGIN:VCALENDAR
VERSION:2.0
PRODID:-//wp-events-plugin.com//5.99912//EN
TZID:Europe/Berlin
X-WR-TIMEZONE:Europe/Berlin
BEGIN:VEVENT
UID:0-132@sontheimbrenz.albverein.eu
DTSTART;TZID=Europe/Berlin:20260522T150000
DTEND;TZID=Europe/Berlin:20260525T120000
DTSTAMP:20260326T191605Z
URL:https://sontheimbrenz.albverein.eu/events/pfingstzeltlager/
SUMMARY:Pfingstzeltlager 2026
DESCRIPTION:Es ist wieder soweit! Das mittlerweile 53. Pfingstzeltlager fin
 det dieses Jahr vom 22. bis 25. Mai im Kühtal in Bergenweiler statt.\nWil
 lkommen\, sind uns alle Kinder ab der 1. Klasse. Auf euch warten Lagerlebe
 n mit Lagerfeuer\, Schlafen im Zelt\, Nachtwanderung\, viele verschieden S
 piele\, großartige Tage mitten in der Natur ... und natürlich: neue Freu
 ndschaften!\n\nDie Anmeldung für das Pfingstzeltlager 2026 gibt es zu geg
 ebener Zeit im Schreiblädle in Sontheim oder dann auch hier zum Download.
 \n\nAnmeldeschluss ist der 11. Mai 2026.\n\n\nPackliste\nDatenschutzbestim
 mungen
LOCATION:Pfingstzeltlager\, 48.571823\, 10.262420\, Sontheim\, Baden-Württ
 emberg\, 89567\, Deutschland
GEO:48.570894084273505;10.263267525720266
X-APPLE-STRUCTURED-LOCATION;VALUE=URI;X-ADDRESS=48.571823\, 10.262420\, Son
 theim\, Baden-Württemberg\, 89567\, Deutschland;X-APPLE-RADIUS=100;X-TITL
 E=Pfingstzeltlager:geo:48.570894084273505,10.263267525720266
END:VEVENT
BEGIN:VTIMEZONE
TZID:Europe/Berlin
X-LIC-LOCATION:Europe/Berlin
BEGIN:DAYLIGHT
DTSTART:20260329T030000
TZOFFSETFROM:+0100
TZOFFSETTO:+0200
TZNAME:CEST
END:DAYLIGHT
END:VTIMEZONE
END:VCALENDAR