BEGIN:VCALENDAR
VERSION:2.0
PRODID:-//wp-events-plugin.com//5.99912//EN
TZID:Europe/Berlin
X-WR-TIMEZONE:Europe/Berlin
BEGIN:VEVENT
UID:0-429@sontheimbrenz.albverein.eu
DTSTART;TZID=Europe/Berlin:20260728T150000
DTEND;TZID=Europe/Berlin:20260728T150000
DTSTAMP:20251211T014103Z
URL:https://sontheimbrenz.albverein.eu/events/poolparty-cocktails/
SUMMARY:Poolparty &amp\; Cocktails
DESCRIPTION:Die Jugendgruppe möchte mit einer Poolparty &amp\; Cocktails i
 n die Sommerpause gehen ...\n\nDas WO\, WIE\, WANN und alle weiteren Infor
 mationen werden intern weitergegeben.
END:VEVENT
BEGIN:VTIMEZONE
TZID:Europe/Berlin
X-LIC-LOCATION:Europe/Berlin
BEGIN:DAYLIGHT
DTSTART:20260329T030000
TZOFFSETFROM:+0100
TZOFFSETTO:+0200
TZNAME:CEST
END:DAYLIGHT
END:VTIMEZONE
END:VCALENDAR