BEGIN:VCALENDAR
VERSION:2.0
PRODID:-//wp-events-plugin.com//5.99912//EN
TZID:Europe/Berlin
X-WR-TIMEZONE:Europe/Berlin
BEGIN:VEVENT
UID:0-182@sontheimbrenz.albverein.eu
DTSTART;TZID=Europe/Berlin:20261016T180000
DTEND;TZID=Europe/Berlin:20261018T160000
DTSTAMP:20251211T003736Z
URL:https://sontheimbrenz.albverein.eu/events/probenwochenende-farrenstall
 /
SUMMARY:Probenwochenende Farrenstall
DESCRIPTION:Die Volkstanzgruppe trifft sich wie im vergangenen Jahr im Wand
 erheim Farrenstall des SAV in Allmendingen\, um miteinander die Tänze der
  neuen Saison zu proben.\n\nAlle weiteren Informationen erfahren die Tänz
 er über die Tanzgruppenleiter.
LOCATION:Wanderheim Farrenstall\, Grießtalstraße 40\, Allmendingen\, Bade
 n-Württemberg\, 89604\, Deutschland
GEO:48.34457;9.653170000000046
X-APPLE-STRUCTURED-LOCATION;VALUE=URI;X-ADDRESS=Grießtalstraße 40\, Allme
 ndingen\, Baden-Württemberg\, 89604\, Deutschland;X-APPLE-RADIUS=100;X-TI
 TLE=Wanderheim Farrenstall:geo:48.34457,9.653170000000046
END:VEVENT
BEGIN:VTIMEZONE
TZID:Europe/Berlin
X-LIC-LOCATION:Europe/Berlin
BEGIN:DAYLIGHT
DTSTART:20260329T030000
TZOFFSETFROM:+0100
TZOFFSETTO:+0200
TZNAME:CEST
END:DAYLIGHT
END:VTIMEZONE
END:VCALENDAR