BEGIN:VCALENDAR
VERSION:2.0
PRODID:-//wp-events-plugin.com//5.99912//EN
TZID:Europe/Berlin
X-WR-TIMEZONE:Europe/Berlin
BEGIN:VEVENT
UID:0-421@sontheimbrenz.albverein.eu
DTSTART;TZID=Europe/Berlin;VALUE=DATE:20260614
DTEND;TZID=Europe/Berlin;VALUE=DATE:20260615
DTSTAMP:20251208T141453Z
URL:https://sontheimbrenz.albverein.eu/events/rund-um-untermarchtal/
SUMMARY:Rund um Untermarchtal
DESCRIPTION:Unser Wanderführer Klaus Hogen führt die Wanderer "rund um Un
 termarchtal"\, wunderbar an der Donau gelegen.\nLassen Sie sich diesen sch
 önen Tag nicht entgehen!\n\nAlle weiteren Informationen erhalten Sie hier
  zur rechten Zeit
END:VEVENT
BEGIN:VTIMEZONE
TZID:Europe/Berlin
X-LIC-LOCATION:Europe/Berlin
BEGIN:DAYLIGHT
DTSTART:20260329T030000
TZOFFSETFROM:+0100
TZOFFSETTO:+0200
TZNAME:CEST
END:DAYLIGHT
END:VTIMEZONE
END:VCALENDAR