BEGIN:VCALENDAR
VERSION:2.0
PRODID:-//wp-events-plugin.com//5.99912//EN
TZID:Europe/Berlin
X-WR-TIMEZONE:Europe/Berlin
BEGIN:VEVENT
UID:0-336@sontheimbrenz.albverein.eu
DTSTART;TZID=Europe/Berlin;VALUE=DATE:20261011
DTEND;TZID=Europe/Berlin;VALUE=DATE:20261012
DTSTAMP:20251211T003552Z
URL:https://sontheimbrenz.albverein.eu/events/sav-kulturtage-schaefertradi
 tionstag/
SUMMARY:Schäfertradition
DESCRIPTION:Im Rahmen der Schäfertradition findet auch in diesem Jahr ein 
 Event statt\, das unsere Schäfertanzgruppe ebenfalls besucht und mit sein
 em Auftritt bereichert.\n\nWeitere Informationen folgen ...
LOCATION:Brenzpark Heidenheim\, Nördlinger Straße 52\, Heidenheim\, Baden
 -Württemberg\, 89522\, Deutschland
GEO:48.687507;10.160892
X-APPLE-STRUCTURED-LOCATION;VALUE=URI;X-ADDRESS=Nördlinger Straße 52\, He
 idenheim\, Baden-Württemberg\, 89522\, Deutschland;X-APPLE-RADIUS=100;X-T
 ITLE=Brenzpark Heidenheim:geo:48.687507,10.160892
END:VEVENT
BEGIN:VTIMEZONE
TZID:Europe/Berlin
X-LIC-LOCATION:Europe/Berlin
BEGIN:DAYLIGHT
DTSTART:20260329T030000
TZOFFSETFROM:+0100
TZOFFSETTO:+0200
TZNAME:CEST
END:DAYLIGHT
END:VTIMEZONE
END:VCALENDAR