BEGIN:VCALENDAR
VERSION:2.0
PRODID:-//wp-events-plugin.com//5.99912//EN
TZID:Europe/Berlin
X-WR-TIMEZONE:Europe/Berlin
BEGIN:VEVENT
UID:0-356@sontheimbrenz.albverein.eu
DTSTART;TZID=Europe/Berlin:20260920T090000
DTEND;TZID=Europe/Berlin:20260920T180000
DTSTAMP:20251211T000024Z
URL:https://sontheimbrenz.albverein.eu/events/seniorenfeier-2/
SUMMARY:Seniorenfeier
DESCRIPTION:Die Ortsgruppe übernimmt traditionell die Bewirtung der Senior
 en bei der Seniorenfeier unserer Gemeinde Sontheim an der Brenz. Wir freue
 n uns\, damit beitragen zu können\, dass die Senioren unseres Ortes einen
  schönen Tag in unserer Gemeindehalle verbringen können.\nFreude bereite
 t uns dabei nicht nur die Arbeit\, sondern auch die interessanten Gespräc
 he mit den Senioren und das wirklich abwechslungsreiche Programm\, das die
  Gemeindeverwaltung immer neu aufstellt.
LOCATION:Gemeindehalle Sontheim\, Neustraße 28\, Sontheim\, Baden-Württem
 berg\, 89567\, Deutschland
GEO:48.55377;10.286460000000034
X-APPLE-STRUCTURED-LOCATION;VALUE=URI;X-ADDRESS=Neustraße 28\, Sontheim\, 
 Baden-Württemberg\, 89567\, Deutschland;X-APPLE-RADIUS=100;X-TITLE=Gemein
 dehalle Sontheim:geo:48.55377,10.286460000000034
END:VEVENT
BEGIN:VTIMEZONE
TZID:Europe/Berlin
X-LIC-LOCATION:Europe/Berlin
BEGIN:DAYLIGHT
DTSTART:20260329T030000
TZOFFSETFROM:+0100
TZOFFSETTO:+0200
TZNAME:CEST
END:DAYLIGHT
END:VTIMEZONE
END:VCALENDAR