BEGIN:VCALENDAR
VERSION:2.0
PRODID:-//wp-events-plugin.com//5.99912//EN
TZID:Europe/Berlin
X-WR-TIMEZONE:Europe/Berlin
BEGIN:VEVENT
UID:0-321@sontheimbrenz.albverein.eu
DTSTART;TZID=Europe/Berlin:20260922T193000
DTEND;TZID=Europe/Berlin:20260922T193000
DTSTAMP:20251208T132126Z
URL:https://sontheimbrenz.albverein.eu/events/singen-in-froher-runde-im-se
 ptember-2/
SUMMARY:Singen in froher Runde im September
DESCRIPTION:Wir treffen uns\, wie üblich\, in unseren Vereinsräumen in de
 r ehemaligen Brenzer Schule zum Singen in froher Runde - völlig unverbind
 lich\, nur der Geselligkeit und der Musik wegen.\n\nNeue Sänger und Säng
 erinnen - Mitglieder oder Nichtmitglieder - die Lust haben\, in ungezwunge
 ner Runde zu singen\, sind herzlich willkommen!\nWer ein grünes Liederbü
 chle hat\, bitte mitbringen!\n\nInfo bei:\nHerman Weiß\, Tel: 45 72\nHadw
 ig Franz\, Tel: 92 35 50
LOCATION:Grundschule Brenz\, Turnstraße 33\, Sontheim\, Baden-Württemberg
 \, 89567\, Deutschland
GEO:48.56610999999999;10.291079999999965
X-APPLE-STRUCTURED-LOCATION;VALUE=URI;X-ADDRESS=Turnstraße 33\, Sontheim\,
  Baden-Württemberg\, 89567\, Deutschland;X-APPLE-RADIUS=100;X-TITLE=Grund
 schule Brenz:geo:48.56610999999999,10.291079999999965
END:VEVENT
BEGIN:VTIMEZONE
TZID:Europe/Berlin
X-LIC-LOCATION:Europe/Berlin
BEGIN:DAYLIGHT
DTSTART:20260329T030000
TZOFFSETFROM:+0100
TZOFFSETTO:+0200
TZNAME:CEST
END:DAYLIGHT
END:VTIMEZONE
END:VCALENDAR