BEGIN:VCALENDAR
VERSION:2.0
PRODID:-//wp-events-plugin.com//5.99912//EN
TZID:Europe/Berlin
X-WR-TIMEZONE:Europe/Berlin
BEGIN:VEVENT
UID:0-425@sontheimbrenz.albverein.eu
DTSTART;TZID=Europe/Berlin:20260913T150000
DTEND;TZID=Europe/Berlin:20260913T150000
DTSTAMP:20251210T235851Z
URL:https://sontheimbrenz.albverein.eu/events/sommerfest/
SUMMARY:Sommerfest
DESCRIPTION:Als Dankeschön und Anerkennung der Leistungen und der Verbunde
 nheit mit unserem Verein lädt die Ortsgruppe alle Aktiven (Helfer\; Bäck
 er\, etc.) zu einem Sommerfest zum Abschluss der Sommerferien in und um di
 e Vereinsräumlichkeiten nach Brenz ein.\nWir freuen uns auf Ihr und dein 
 Kommen!
LOCATION:Grundschule Brenz\, Turnstraße 33\, Sontheim\, Baden-Württemberg
 \, 89567\, Deutschland
GEO:48.56610999999999;10.291079999999965
X-APPLE-STRUCTURED-LOCATION;VALUE=URI;X-ADDRESS=Turnstraße 33\, Sontheim\,
  Baden-Württemberg\, 89567\, Deutschland;X-APPLE-RADIUS=100;X-TITLE=Grund
 schule Brenz:geo:48.56610999999999,10.291079999999965
END:VEVENT
BEGIN:VTIMEZONE
TZID:Europe/Berlin
X-LIC-LOCATION:Europe/Berlin
BEGIN:DAYLIGHT
DTSTART:20260329T030000
TZOFFSETFROM:+0100
TZOFFSETTO:+0200
TZNAME:CEST
END:DAYLIGHT
END:VTIMEZONE
END:VCALENDAR