BEGIN:VCALENDAR
VERSION:2.0
PRODID:-//wp-events-plugin.com//5.99912//EN
TZID:Europe/Berlin
X-WR-TIMEZONE:Europe/Berlin
BEGIN:VEVENT
UID:0-420@sontheimbrenz.albverein.eu
DTSTART;TZID=Europe/Berlin;VALUE=DATE:20260607
DTEND;TZID=Europe/Berlin;VALUE=DATE:20260608
DTSTAMP:20251208T140722Z
URL:https://sontheimbrenz.albverein.eu/events/sontheimer-hoehle/
SUMMARY:Sontheimer Höhle
DESCRIPTION:Zu dieser Ganztageswanderung auf die Schwäbische Alb zur Sonth
 eimer Höhle lädt herzlich Familie Franz ein.\nÜber den Link können Sie
  sich schon informieren\, damit Sie dann genau wissen\, dass Sie teilnehme
 n möchten und sich den Termin im Kalender markieren.\n\nAlle weiteren Inf
 ormationen zur Tour kommen dann rechtzeitig hier.
LOCATION:Sontheimer Höhle\, Kohlhalde 1\, Heroldstatt\, Baden-Württemberg
 \, 72535\, Deutschland
GEO:48.431348;9.683495
X-APPLE-STRUCTURED-LOCATION;VALUE=URI;X-ADDRESS=Kohlhalde 1\, Heroldstatt\,
  Baden-Württemberg\, 72535\, Deutschland;X-APPLE-RADIUS=100;X-TITLE=Sonth
 eimer Höhle:geo:48.431348,9.683495
END:VEVENT
BEGIN:VTIMEZONE
TZID:Europe/Berlin
X-LIC-LOCATION:Europe/Berlin
BEGIN:DAYLIGHT
DTSTART:20260329T030000
TZOFFSETFROM:+0100
TZOFFSETTO:+0200
TZNAME:CEST
END:DAYLIGHT
END:VTIMEZONE
END:VCALENDAR