BEGIN:VCALENDAR
VERSION:2.0
PRODID:-//wp-events-plugin.com//5.99912//EN
TZID:Europe/Berlin
X-WR-TIMEZONE:Europe/Berlin
BEGIN:VEVENT
UID:0-397@sontheimbrenz.albverein.eu
DTSTART;TZID=Europe/Berlin:20260429T090000
DTEND;TZID=Europe/Berlin:20260429T090000
DTSTAMP:20260415T063826Z
URL:https://sontheimbrenz.albverein.eu/events/spargelschlemmerfahrt-der-se
 nioren/
SUMMARY:Spargelschlemmerfahrt der Senioren
DESCRIPTION:Diese Ganztagesfahrt der Senioren führt nach Schrobenhausen zu
 m Spargelschlemmen. Lassen Sie sich überraschen!\n\nZuerst besuchen wir\,
  mit einer Führung\, eine Champignonzucht in Pöttmes. Danach gehen wir i
 ns Restaurant Müller’s zum Mittagessen mit einem Spargelbuffet. Anschli
 eßend erfahren wir noch einiges über den Spargelanbau und Verarbeitung. 
 Dort haben wir auch die Möglichkeit zum Einkauf.\nZum Abschluss gehen wir
  noch Kaffeetrinken in Aichach.\n\nAbfahrt ist um 9:00 Uhr in Bächingen\,
  dann Pension Brenz und Volksbank.\n\nAnmeldungen bitte bei Sabine Mack Te
 l. 07325/3803 (Wir bitten um rechtzeitige Anmeldung und freuen uns über j
 eden Teilnehmer - ob Mitglied oder Nicht-Mitglied).
LOCATION:Spargelerzeugerverband Südbayern e.V.\, Bürgermeister-Stocker-Ri
 ng 33\, Schrobenhausen\, Bayern\, 86529\, Deutschland
GEO:48.560395;11.267779
X-APPLE-STRUCTURED-LOCATION;VALUE=URI;X-ADDRESS=Bürgermeister-Stocker-Ring
  33\, Schrobenhausen\, Bayern\, 86529\, Deutschland;X-APPLE-RADIUS=100;X-T
 ITLE=Spargelerzeugerverband Südbayern e.V.:geo:48.560395,11.267779
END:VEVENT
BEGIN:VTIMEZONE
TZID:Europe/Berlin
X-LIC-LOCATION:Europe/Berlin
BEGIN:DAYLIGHT
DTSTART:20260329T030000
TZOFFSETFROM:+0100
TZOFFSETTO:+0200
TZNAME:CEST
END:DAYLIGHT
END:VTIMEZONE
END:VCALENDAR