BEGIN:VCALENDAR
VERSION:2.0
PRODID:-//wp-events-plugin.com//5.99912//EN
TZID:Europe/Berlin
X-WR-TIMEZONE:Europe/Berlin
BEGIN:VEVENT
UID:0-123@sontheimbrenz.albverein.eu
DTSTART;TZID=Europe/Berlin;VALUE=DATE:20260601
DTEND;TZID=Europe/Berlin;VALUE=DATE:20260701
DTSTAMP:20251208T143131Z
URL:https://sontheimbrenz.albverein.eu/events/streuobstwiese-maehen/
SUMMARY:Streuobstwiese mähen
DESCRIPTION:Die Naturschutzgruppe hat ihren Einsatz auf der Streuobstwiese.
 \n\nWillkommen sind auch alle interessierten Naturschutzfreunde\, die nich
 t im Verein sind.\n\nNähere Informationen und das genaue Datum erfragen S
 ie bitte bei unserem Naturschutzwart Klaus Lischka (07325-3755 oder über 
 naturschutz at sav-sontheim.de).
LOCATION:Streuobstwiese der Ortsgruppe\, Gäßlesbauernholz\, Sontheim\, Ba
 den-Württemberg\, 89567\, Deutschland
GEO:48.5481932;10.268723300000033
X-APPLE-STRUCTURED-LOCATION;VALUE=URI;X-ADDRESS=Gäßlesbauernholz\, Sonthe
 im\, Baden-Württemberg\, 89567\, Deutschland;X-APPLE-RADIUS=100;X-TITLE=S
 treuobstwiese der Ortsgruppe:geo:48.5481932,10.268723300000033
END:VEVENT
BEGIN:VTIMEZONE
TZID:Europe/Berlin
X-LIC-LOCATION:Europe/Berlin
BEGIN:DAYLIGHT
DTSTART:20260329T030000
TZOFFSETFROM:+0100
TZOFFSETTO:+0200
TZNAME:CEST
END:DAYLIGHT
END:VTIMEZONE
END:VCALENDAR