BEGIN:VCALENDAR
VERSION:2.0
PRODID:-//wp-events-plugin.com//5.99912//EN
TZID:Europe/Berlin
X-WR-TIMEZONE:Europe/Berlin
BEGIN:VEVENT
UID:0-422@sontheimbrenz.albverein.eu
DTSTART;TZID=Europe/Berlin;VALUE=DATE:20260620
DTEND;TZID=Europe/Berlin;VALUE=DATE:20260621
DTSTAMP:20251208T142012Z
URL:https://sontheimbrenz.albverein.eu/events/tag-der-tradition/
SUMMARY:Tag der Tradition
DESCRIPTION:Unsere Volkstanzgruppen nehmen am "Tag der Traditionen" auf der
  Landesgartenschau in Ellwangen teil.\n\nAlle weiteren Informationen folge
 n noch ...
LOCATION:Landesgartenschaugelände Ellwangen\, Rotenbacher Straße 1\, Ellw
 angen\, Baden-Württemberg\, 73479\, Deutschland
GEO:48.962323;10.127921
X-APPLE-STRUCTURED-LOCATION;VALUE=URI;X-ADDRESS=Rotenbacher Straße 1\, Ell
 wangen\, Baden-Württemberg\, 73479\, Deutschland;X-APPLE-RADIUS=100;X-TIT
 LE=Landesgartenschaugelände Ellwangen:geo:48.962323,10.127921
END:VEVENT
BEGIN:VTIMEZONE
TZID:Europe/Berlin
X-LIC-LOCATION:Europe/Berlin
BEGIN:DAYLIGHT
DTSTART:20260329T030000
TZOFFSETFROM:+0100
TZOFFSETTO:+0200
TZNAME:CEST
END:DAYLIGHT
END:VTIMEZONE
END:VCALENDAR