BEGIN:VCALENDAR
VERSION:2.0
PRODID:-//wp-events-plugin.com//5.99912//EN
TZID:Europe/Berlin
X-WR-TIMEZONE:Europe/Berlin
BEGIN:VEVENT
UID:0-398@sontheimbrenz.albverein.eu
DTSTART;TZID=Europe/Berlin:20260613T100000
DTEND;TZID=Europe/Berlin:20260613T130000
DTSTAMP:20251210T234504Z
URL:https://sontheimbrenz.albverein.eu/events/tanzfest/
SUMMARY:Tanzfest
DESCRIPTION:Unsere Volkstanzgruppen mit der gesamten Ortsgruppe laden ganz 
 herzlich zu einem Tanzfest im Rahmen der Hauptversammlung des Hauptvereins
  in Sigmaringendorf ein.
LOCATION:Donau Lauchert Halle\, Lauchertbühl 9\, Sigmaringendorf\, Baden-W
 ürttemberg\, 72517\, Deutschland
GEO:48.067157;9.262357
X-APPLE-STRUCTURED-LOCATION;VALUE=URI;X-ADDRESS=Lauchertbühl 9\, Sigmaring
 endorf\, Baden-Württemberg\, 72517\, Deutschland;X-APPLE-RADIUS=100;X-TIT
 LE=Donau Lauchert Halle:geo:48.067157,9.262357
END:VEVENT
BEGIN:VTIMEZONE
TZID:Europe/Berlin
X-LIC-LOCATION:Europe/Berlin
BEGIN:DAYLIGHT
DTSTART:20260329T030000
TZOFFSETFROM:+0100
TZOFFSETTO:+0200
TZNAME:CEST
END:DAYLIGHT
END:VTIMEZONE
END:VCALENDAR