BEGIN:VCALENDAR
VERSION:2.0
PRODID:-//wp-events-plugin.com//5.99912//EN
TZID:Europe/Berlin
X-WR-TIMEZONE:Europe/Berlin
BEGIN:VEVENT
UID:0-431@sontheimbrenz.albverein.eu
DTSTART;TZID=Europe/Berlin:20260912T000000
DTEND;TZID=Europe/Berlin:20260912T000000
DTSTAMP:20251211T021834Z
URL:https://sontheimbrenz.albverein.eu/events/ulmer-hoehenweg/
SUMMARY:Ulmer Höhenweg
DESCRIPTION:Zu dieser Halbtagestour lädt Wanderwart Frieder Kern ganz herz
 lich Mitglieder und Nicht-Mitglieder ein.\n\nWeil Gutes nicht immer weit e
 ntfernt sein muss\, hat er sich den Ulmer Höhenweg ausgesucht.\n\nAlle we
 iteren notwendigen Informationen kommen dann rechtzeitig zu einem spätere
 n Zeitpunkt.
END:VEVENT
BEGIN:VTIMEZONE
TZID:Europe/Berlin
X-LIC-LOCATION:Europe/Berlin
BEGIN:DAYLIGHT
DTSTART:20260329T030000
TZOFFSETFROM:+0100
TZOFFSETTO:+0200
TZNAME:CEST
END:DAYLIGHT
END:VTIMEZONE
END:VCALENDAR