BEGIN:VCALENDAR
VERSION:2.0
PRODID:-//wp-events-plugin.com//5.99912//EN
TZID:Europe/Berlin
X-WR-TIMEZONE:Europe/Berlin
BEGIN:VEVENT
UID:0-410@sontheimbrenz.albverein.eu
DTSTART;TZID=Europe/Berlin:20260626T150000
DTEND;TZID=Europe/Berlin:20260626T163000
DTSTAMP:20251203T142746Z
URL:https://sontheimbrenz.albverein.eu/events/umsetzung-baumhaus-teil-i/
SUMMARY:Umsetzung Baumhaus\, Teil I
DESCRIPTION:Die Planungen zum Baumhaus werden nun in die Tat umgesetzt - zu
 mindest machen wir mal 'nen Anfang. Dazu treffen wir uns auf der Streuobst
 wiese der Ortsgruppe in Sontheim (auf der Karte unten findet ihr's).\n\nAl
 les Weitere erfahrt ihr dann noch rechtzeitig.
LOCATION:Streuobstwiese der Ortsgruppe\, Gäßlesbauernholz\, Sontheim\, Ba
 den-Württemberg\, 89567\, Deutschland
GEO:48.5481932;10.268723300000033
X-APPLE-STRUCTURED-LOCATION;VALUE=URI;X-ADDRESS=Gäßlesbauernholz\, Sonthe
 im\, Baden-Württemberg\, 89567\, Deutschland;X-APPLE-RADIUS=100;X-TITLE=S
 treuobstwiese der Ortsgruppe:geo:48.5481932,10.268723300000033
END:VEVENT
BEGIN:VTIMEZONE
TZID:Europe/Berlin
X-LIC-LOCATION:Europe/Berlin
BEGIN:DAYLIGHT
DTSTART:20260329T030000
TZOFFSETFROM:+0100
TZOFFSETTO:+0200
TZNAME:CEST
END:DAYLIGHT
END:VTIMEZONE
END:VCALENDAR