BEGIN:VCALENDAR
VERSION:2.0
PRODID:-//wp-events-plugin.com//5.99912//EN
TZID:Europe/Berlin
X-WR-TIMEZONE:Europe/Berlin
BEGIN:VEVENT
UID:0-412@sontheimbrenz.albverein.eu
DTSTART;TZID=Europe/Berlin:20260918T150000
DTEND;TZID=Europe/Berlin:20260918T163000
DTSTAMP:20251203T143424Z
URL:https://sontheimbrenz.albverein.eu/events/umsetzung-baumhaus-teil-iii/
SUMMARY:Umsetzung Baumhaus\, Teil III
DESCRIPTION:Nun\, nach der Sommerpause wird die begonnene Umsetzung am und 
 im Baumhaus auf der Streuobstwiese zu Ende geführt.\nDann könnt ihr so r
 ichtig stolz auf euch sein und sagen: "Wir haben unser erstes Haus gebaut 
 - und das noch auf einem Baum!" Herzlichen Glückwunsch!\n\nIhr wisst's ja
  schon ... alles Weitere ...
LOCATION:Streuobstwiese der Ortsgruppe\, Gäßlesbauernholz\, Sontheim\, Ba
 den-Württemberg\, 89567\, Deutschland
GEO:48.5481932;10.268723300000033
X-APPLE-STRUCTURED-LOCATION;VALUE=URI;X-ADDRESS=Gäßlesbauernholz\, Sonthe
 im\, Baden-Württemberg\, 89567\, Deutschland;X-APPLE-RADIUS=100;X-TITLE=S
 treuobstwiese der Ortsgruppe:geo:48.5481932,10.268723300000033
END:VEVENT
BEGIN:VTIMEZONE
TZID:Europe/Berlin
X-LIC-LOCATION:Europe/Berlin
BEGIN:DAYLIGHT
DTSTART:20260329T030000
TZOFFSETFROM:+0100
TZOFFSETTO:+0200
TZNAME:CEST
END:DAYLIGHT
END:VTIMEZONE
END:VCALENDAR