BEGIN:VCALENDAR
VERSION:2.0
PRODID:-//wp-events-plugin.com//5.99912//EN
TZID:Europe/Berlin
X-WR-TIMEZONE:Europe/Berlin
BEGIN:VEVENT
UID:0-211@sontheimbrenz.albverein.eu
DTSTART;TZID=Europe/Berlin:20260628T133000
DTEND;TZID=Europe/Berlin:20260628T160000
DTSTAMP:20251208T142619Z
URL:https://sontheimbrenz.albverein.eu/events/waldkonzert/
SUMMARY:Waldkonzert
DESCRIPTION:Unsere Volkstanzmusikgruppe lädt alle Mitglieder und Interessi
 erten\, alle Musikbegeisterten zu einem Konzert in der Natur ein\, zum mit
 tlerweile vierten Waldkonzert.\n\nUnterbrechen Sie Ihren Spaziergang\, Ihr
 e Radtour oder Ihre Wanderung für eine Pause mit musikalischer Untermalun
 g.\n\nWo: Großhauhütte (Pflanzschulhütte) im Sontheimer Wald\nWann: Son
 ntag\, 28. Juni\, ab 13:30 Uhr (bis ca. 16:00 Uhr)\n\nEs wird auch eine ge
 führte Wanderung zur Hütte geben. Gerne können Sie sich dazu der Wander
 gruppe anschließen\, die sich um 13:00 Uhr an der Reithalle in Sontheim t
 rifft.\n\nWeitere Infos erhalten Sie bei Hadwig Franz: Tel. 07325-923550
LOCATION:Großhauhütte\, 48°33'40.6"N 10°15'35.0"E\, Sontheim\, Baden-W
 ürttemberg\, 89567\, Deutschland
GEO:48.5568355;10.2850447
X-APPLE-STRUCTURED-LOCATION;VALUE=URI;X-ADDRESS=48°33'40.6\"N 10°15'35.0\
 "E\, Sontheim\, Baden-Württemberg\, 89567\, Deutschland;X-APPLE-RADIUS=10
 0;X-TITLE=Großhauhütte:geo:48.5568355,10.2850447
END:VEVENT
BEGIN:VTIMEZONE
TZID:Europe/Berlin
X-LIC-LOCATION:Europe/Berlin
BEGIN:DAYLIGHT
DTSTART:20260329T030000
TZOFFSETFROM:+0100
TZOFFSETTO:+0200
TZNAME:CEST
END:DAYLIGHT
END:VTIMEZONE
END:VCALENDAR