BEGIN:VCALENDAR
VERSION:2.0
PRODID:-//wp-events-plugin.com//5.99912//EN
TZID:Europe/Berlin
X-WR-TIMEZONE:Europe/Berlin
BEGIN:VEVENT
UID:0-433@sontheimbrenz.albverein.eu
DTSTART;TZID=Europe/Berlin;VALUE=DATE:20261003
DTEND;TZID=Europe/Berlin;VALUE=DATE:20261004
DTSTAMP:20260112T012444Z
URL:https://sontheimbrenz.albverein.eu/events/wanderung-an-der-festungsrui
 ne-hohenneuffen/
SUMMARY:Wanderung an der Festungsruine Hohenneuffen
DESCRIPTION:Zu diesem Ganztagesausflug lädt unser Wegewart Wolfram Görsdo
 rf alle Wanderfreunde (Mitglieder und Nicht-Mitglieder) recht herzlich ein
 .\nWeil die Umgebung der Festungsruine Hohenneuffen so malerisch ist\, ver
 spricht der Tag auch ein ganz besonderer zu werden.\n\nMerken Sie sich als
 o den Termin vor ... alle nötigen Informationen kommen dann zeitnah dazu.
LOCATION:Festungsruine Hohenneuffen\, Hohenneuffenstraße 100\, Erkenbrecht
 sweiler\, Baden-Württemberg\, 73268\, Deutschland
GEO:48.56506;9.403328
X-APPLE-STRUCTURED-LOCATION;VALUE=URI;X-ADDRESS=Hohenneuffenstraße 100\, E
 rkenbrechtsweiler\, Baden-Württemberg\, 73268\, Deutschland;X-APPLE-RADIU
 S=100;X-TITLE=Festungsruine Hohenneuffen:geo:48.56506,9.403328
END:VEVENT
BEGIN:VTIMEZONE
TZID:Europe/Berlin
X-LIC-LOCATION:Europe/Berlin
BEGIN:DAYLIGHT
DTSTART:20260329T030000
TZOFFSETFROM:+0100
TZOFFSETTO:+0200
TZNAME:CEST
END:DAYLIGHT
END:VTIMEZONE
END:VCALENDAR