BEGIN:VCALENDAR
VERSION:2.0
PRODID:-//wp-events-plugin.com//5.99912//EN
TZID:Europe/Berlin
X-WR-TIMEZONE:Europe/Berlin
BEGIN:VEVENT
UID:0-435@sontheimbrenz.albverein.eu
DTSTART;TZID=Europe/Berlin;VALUE=DATE:20261108
DTEND;TZID=Europe/Berlin;VALUE=DATE:20261109
DTSTAMP:20260112T015252Z
URL:https://sontheimbrenz.albverein.eu/events/wanderung-auf-dem-neandertal
 weg/
SUMMARY:Wanderung auf dem Neandertalweg
DESCRIPTION:Zu dieser Wandeurng auf dem Neandertalweg (ganz in unserer Näh
 e) lädt unsere Wanderführerin Sybille Grandel ein.\n\nAlle weiteren Info
 rmationen werden zu gegebener Zeit hier nachgereicht.\n\nDer SAV freut sic
 h mt der Wanderführerin über jeden Wanderfreund\, der mitkommt!
END:VEVENT
BEGIN:VTIMEZONE
TZID:Europe/Berlin
X-LIC-LOCATION:Europe/Berlin
BEGIN:STANDARD
DTSTART:20261025T020000
TZOFFSETFROM:+0200
TZOFFSETTO:+0100
TZNAME:CET
END:STANDARD
END:VTIMEZONE
END:VCALENDAR