BEGIN:VCALENDAR
VERSION:2.0
PRODID:-//wp-events-plugin.com//5.99912//EN
TZID:Europe/Berlin
X-WR-TIMEZONE:Europe/Berlin
BEGIN:VEVENT
UID:0-352@sontheimbrenz.albverein.eu
DTSTART;TZID=Europe/Berlin:20260621T123000
DTEND;TZID=Europe/Berlin:20260621T123000
DTSTAMP:20251208T142244Z
URL:https://sontheimbrenz.albverein.eu/events/wanderung-in-und-um-giengen/
SUMMARY:Wanderung in und um Giengen
DESCRIPTION:Unsere Wanderführerin Anna Kröner lädt alle Interessierten z
 u einer "Stadtführung" im ehemaligen Reichsstädtchen Giengen an der Bren
 z ein. Unter fachkundiger Führung werden wir Giengen erleben.\nDie Führu
 ng dauert ca. 75 Min. Im Anschluß ist eine Kaffeepause vorgesehen. Danach
  fahren wir mit dem Zug zurück nach Sontheim.\n\nWann: Sonntag\, 21.06.26
 \nUhrzeit: 12:30 Uhr\nTreffpunkt: Bahnhof Sontheim\, Gleis 2\n\nEine telef
 onische Anmeldung bis Donnerstag 18.06.26 19:00 Uhr ist erforderlich unter
  Tel. 07325/6857.\nAlle Wanderfreunde\, auch Nichtmitglieder\, sind herzli
 ch willkommen.
LOCATION:Giengen an der Brenz\, Marktstraße 11\, Giengen\, Baden-Württemb
 erg\, 89537\, Deutschland
GEO:48.621034;10.244301
X-APPLE-STRUCTURED-LOCATION;VALUE=URI;X-ADDRESS=Marktstraße 11\, Giengen\,
  Baden-Württemberg\, 89537\, Deutschland;X-APPLE-RADIUS=100;X-TITLE=Gieng
 en an der Brenz:geo:48.621034,10.244301
END:VEVENT
BEGIN:VTIMEZONE
TZID:Europe/Berlin
X-LIC-LOCATION:Europe/Berlin
BEGIN:DAYLIGHT
DTSTART:20260329T030000
TZOFFSETFROM:+0100
TZOFFSETTO:+0200
TZNAME:CEST
END:DAYLIGHT
END:VTIMEZONE
END:VCALENDAR