BEGIN:VCALENDAR
VERSION:2.0
PRODID:-//wp-events-plugin.com//5.99912//EN
TZID:Europe/Berlin
X-WR-TIMEZONE:Europe/Berlin
BEGIN:VEVENT
UID:0-346@sontheimbrenz.albverein.eu
DTSTART;TZID=Europe/Berlin;VALUE=DATE:20260823
DTEND;TZID=Europe/Berlin;VALUE=DATE:20260824
DTSTAMP:20251211T020543Z
URL:https://sontheimbrenz.albverein.eu/events/wanderung-mit-dem-buergermei
 ster/
SUMMARY:Wanderung mit dem Bürgermeister
DESCRIPTION:Wir freuen uns sehr\, dass sich unser Bürgermeister auch in di
 esem Jahr wieder Zeit nimmt\, mit uns zu wandern!\n\nWohin es diesmal geht
  ... lassen Sie sich überraschen! Es wird sicher wieder interessant und e
 ine wunderschöne Wandertour!\n\nZu dieser Wanderung lädt Wanderführer T
 obias Rief ganz herzlich ein. Gäste sind willkommen!\n\nInfo: Hadwig Fran
 z\, Tel.: 07325 / 923550
LOCATION:Brenztalapotheke Sontheim\, Brenzer Straße 27\, Sontheim\, Baden-
 Württemberg\, 89567\, Deutschland
GEO:48.5580021;10.2892053
X-APPLE-STRUCTURED-LOCATION;VALUE=URI;X-ADDRESS=Brenzer Straße 27\, Sonthe
 im\, Baden-Württemberg\, 89567\, Deutschland;X-APPLE-RADIUS=100;X-TITLE=B
 renztalapotheke Sontheim:geo:48.5580021,10.2892053
END:VEVENT
BEGIN:VTIMEZONE
TZID:Europe/Berlin
X-LIC-LOCATION:Europe/Berlin
BEGIN:DAYLIGHT
DTSTART:20260329T030000
TZOFFSETFROM:+0100
TZOFFSETTO:+0200
TZNAME:CEST
END:DAYLIGHT
END:VTIMEZONE
END:VCALENDAR