BEGIN:VCALENDAR
VERSION:2.0
PRODID:-//wp-events-plugin.com//5.99912//EN
TZID:Europe/Berlin
X-WR-TIMEZONE:Europe/Berlin
BEGIN:VEVENT
UID:0-215@sontheimbrenz.albverein.eu
DTSTART;TZID=Europe/Berlin;VALUE=DATE:20261122
DTEND;TZID=Europe/Berlin;VALUE=DATE:20261123
DTSTAMP:20260112T015508Z
URL:https://sontheimbrenz.albverein.eu/events/wanderung-mit-entenessen/
SUMMARY:Wanderung mit Entenessen
DESCRIPTION:Auch in diesem Jahr gibt es wieder eine Wanderung mit Entenesse
 n\, organisert und geleitet von Dietmar &amp\; Hadwig Franz.\n\nWohin die 
 Enten in diesem Jahr geflogen sind\, damit wir sie dann zu uns nehmen kön
 nen\, kommt noch auf ... Zu gegebener Zeit wird es hier kund getan.\n\nAnm
 eldung bis Montag\, den 16. November 2026 bei: Hadwig Franz\, Tel: 92 35 
 50 (gerne auch auf den Anrufbeantworter sprechen)\n\nZu dieser Wanderung s
 ind Vereinsmitglieder sowie interessierte Gäste herzlich eingeladen.
END:VEVENT
BEGIN:VTIMEZONE
TZID:Europe/Berlin
X-LIC-LOCATION:Europe/Berlin
BEGIN:STANDARD
DTSTART:20261025T020000
TZOFFSETFROM:+0200
TZOFFSETTO:+0100
TZNAME:CET
END:STANDARD
END:VTIMEZONE
END:VCALENDAR