BEGIN:VCALENDAR
VERSION:2.0
PRODID:-//wp-events-plugin.com//5.99912//EN
TZID:Europe/Berlin
X-WR-TIMEZONE:Europe/Berlin
BEGIN:VEVENT
UID:0-157@sontheimbrenz.albverein.eu
DTSTART;TZID=Europe/Berlin:20260705T130000
DTEND;TZID=Europe/Berlin:20260705T130000
DTSTAMP:20251208T143414Z
URL:https://sontheimbrenz.albverein.eu/events/wanderung-nach-hermaringen/
SUMMARY:Wanderung nach Hermaringen
DESCRIPTION:Zu dieser im letzten November leider aus gesundheitlichen Grün
 den abgesagte Halbtageswanderung lädt unsere Wanderführerin Sabine Grün
 wald ein. Sie freut sich über viele Wanderfreunde.\n\nAlle weiteren Infor
 mationen folgen dann zeitnah.\n\nNatürlich sind ALLE Wanderbegeisterten h
 erzlich eingeladen.
LOCATION:Grundschule Brenz\, Turnstraße 33\, Sontheim\, Baden-Württemberg
 \, 89567\, Deutschland
GEO:48.56610999999999;10.291079999999965
X-APPLE-STRUCTURED-LOCATION;VALUE=URI;X-ADDRESS=Turnstraße 33\, Sontheim\,
  Baden-Württemberg\, 89567\, Deutschland;X-APPLE-RADIUS=100;X-TITLE=Grund
 schule Brenz:geo:48.56610999999999,10.291079999999965
END:VEVENT
BEGIN:VTIMEZONE
TZID:Europe/Berlin
X-LIC-LOCATION:Europe/Berlin
BEGIN:DAYLIGHT
DTSTART:20260329T030000
TZOFFSETFROM:+0100
TZOFFSETTO:+0200
TZNAME:CEST
END:DAYLIGHT
END:VTIMEZONE
END:VCALENDAR