BEGIN:VCALENDAR
VERSION:2.0
PRODID:-//wp-events-plugin.com//5.99912//EN
TZID:Europe/Berlin
X-WR-TIMEZONE:Europe/Berlin
BEGIN:VEVENT
UID:0-245@sontheimbrenz.albverein.eu
DTSTART;TZID=Europe/Berlin:20261213T090000
DTEND;TZID=Europe/Berlin:20261213T090000
DTSTAMP:20260112T020726Z
URL:https://sontheimbrenz.albverein.eu/events/wanderung-nach-lindenau/
SUMMARY:Wanderung nach Lindenau
DESCRIPTION:&nbsp\;\n\n\n\nWir wiederholen die Wanderung nach Lindenau wege
 n des großen Zuspruchs. Sie führt durch den Sontheimer Wald über Stette
 n nach Lindenau. Treffpunkt: 09.00 Uhr am Panoramastein in Sontheim.\nGege
 n 12.00 Uhr werden wir im Gasthaus zum Schlössle in Lindenau zur Mittagse
 inkehr erwartet.\nNatürlich sind auch Nichtwanderer recht herzlich eingel
 aden und können sich gegen 12.00 Uhr im Gasthaus zum Schlössle der Wande
 rgruppe zum gemeinsamen Mittagessen anschließen.\nGegen 13.30 Uhr werden 
 wir wieder den Rückweg antreten. Wir wandern zurück über das Lonetal\, 
 dem Weltkulturerbe Vogelherd und Stetten zum Panoramastein.\n\nUm eine rei
 bungslose Reservierung vornehmen zu können\, ist eine Anmeldung für alle
  Teilnehmer (Wanderer u. Nichtwanderer) erforderlich.\nAuch Gäste sind ge
 rne gesehen und herzlich willkommen!\n\nWanderführer: Peter Grömme\nAnme
 ldung bis Freitag\, 11.12.2025 bei Peter Grömme\, Tel.: 07325/8324
LOCATION:Panoramastein Sportgelände\, Am Riegele 10-2\, Sontheim\, Baden-W
 ürttemberg\, 89567\, Deutschland
GEO:48.5536928;10.275716
X-APPLE-STRUCTURED-LOCATION;VALUE=URI;X-ADDRESS=Am Riegele 10-2\, Sontheim\
 , Baden-Württemberg\, 89567\, Deutschland;X-APPLE-RADIUS=100;X-TITLE=Pano
 ramastein Sportgelände:geo:48.5536928,10.275716
END:VEVENT
BEGIN:VTIMEZONE
TZID:Europe/Berlin
X-LIC-LOCATION:Europe/Berlin
BEGIN:STANDARD
DTSTART:20261025T020000
TZOFFSETFROM:+0200
TZOFFSETTO:+0100
TZNAME:CET
END:STANDARD
END:VTIMEZONE
END:VCALENDAR